BEGIN:VCALENDAR
VERSION:2.0
PRODID:-//Butler University Staff Assembly - ECPv5.16.4//NONSGML v1.0//EN
CALSCALE:GREGORIAN
METHOD:PUBLISH
X-ORIGINAL-URL:https://blogs.butler.edu/staffassembly
X-WR-CALDESC:Events for Butler University Staff Assembly
REFRESH-INTERVAL;VALUE=DURATION:PT1H
X-Robots-Tag:noindex
X-PUBLISHED-TTL:PT1H
BEGIN:VTIMEZONE
TZID:America/Indiana/Indianapolis
BEGIN:DAYLIGHT
TZOFFSETFROM:-0500
TZOFFSETTO:-0400
TZNAME:EDT
DTSTART:20260308T070000
END:DAYLIGHT
BEGIN:STANDARD
TZOFFSETFROM:-0400
TZOFFSETTO:-0500
TZNAME:EST
DTSTART:20261101T060000
END:STANDARD
END:VTIMEZONE
BEGIN:VEVENT
DTSTART;TZID=America/Indiana/Indianapolis:20260420T093000
DTEND;TZID=America/Indiana/Indianapolis:20260420T103000
DTSTAMP:20260423T222238
CREATED:20260413T135804Z
LAST-MODIFIED:20260413T135805Z
UID:4760-1776677400-1776681000@blogs.butler.edu
SUMMARY:Bouquet Bonanza: Staff Flower Bar
DESCRIPTION:Take a little break to design your own mini-bouquet. We’ll have everything you need to create a unique floral gift for yourself or a colleague! While supplies last. 📅 Monday\, April 20 ⏰ 9:30 AM – 10:30 AM 📍 Library Instruction Lab (Irwin Library\, 1st Floor) Staff Assembly gift\, exclusively for University Staff while supplies last.
URL:https://blogs.butler.edu/staffassembly/event/bouquet-bonanza-staff-flower-bar/
LOCATION:Irwin Library\, 1st Floor (Library Instruction Lab)
END:VEVENT
BEGIN:VEVENT
DTSTART;TZID=America/Indiana/Indianapolis:20260512T140000
DTEND;TZID=America/Indiana/Indianapolis:20260512T160000
DTSTAMP:20260423T222238
CREATED:20260323T191702Z
LAST-MODIFIED:20260323T191703Z
UID:4738-1778594400-1778601600@blogs.butler.edu
SUMMARY:Staff Assembly End-of-the-Year Celebration
DESCRIPTION:
URL:https://blogs.butler.edu/staffassembly/event/staff-assembly-end-of-the-year-celebration/
END:VEVENT
END:VCALENDAR